BEGIN:VCALENDAR
VERSION:2.0
PRODID:icalendar-ruby
CALSCALE:GREGORIAN
METHOD:PUBLISH
BEGIN:VEVENT
DTSTAMP:20260422T185917Z
UID:5-394533@normandyumc.org
DTSTART:20261025T140000Z
DTEND:20261025T150000Z
CLASS:PUBLIC
CREATED:20260422T140629
DESCRIPTION:Sunday Worship
LAST-MODIFIED:20260422T140629
LOCATION:
SUMMARY:Sunday Worship
URL;VALUE=URI:https://normandyumc.org/events/sunday-worship/2026-10-25
END:VEVENT
END:VCALENDAR
